BEGIN:VCALENDAR
VERSION:2.0
PRODID:icalendar-ruby
CALSCALE:GREGORIAN
METHOD:PUBLISH
BEGIN:VEVENT
DTSTAMP:20260424T020801Z
UID:151-3186243@stpeterspawleys.org
DTSTART:20261031T140000Z
DTEND:20261031T160000Z
CLASS:PUBLIC
CREATED:20260423T211743
DESCRIPTION:
LAST-MODIFIED:20260423T211743
LOCATION:Heinecke Hall
SUMMARY:WW of Litchfield
URL;VALUE=URI:https://stpeterspawleys.org/events/ww-of-litchfield/2026-10-3
 1
END:VEVENT
END:VCALENDAR
