BEGIN:VCALENDAR
VERSION:2.0
PRODID:icalendar-ruby
CALSCALE:GREGORIAN
METHOD:PUBLISH
BEGIN:VEVENT
DTSTAMP:20260424T004904Z
UID:151-3183904@stpeterspawleys.org
DTSTART:20261024T140000Z
DTEND:20261024T160000Z
CLASS:PUBLIC
CREATED:20260423T182436
DESCRIPTION:
LAST-MODIFIED:20260423T182436
LOCATION:Heinecke Hall
SUMMARY:WW of Litchfield
URL;VALUE=URI:https://stpeterspawleys.org/events/ww-of-litchfield/2026-10-2
 4
END:VEVENT
END:VCALENDAR
