BEGIN:VCALENDAR
VERSION:2.0
PRODID:icalendar-ruby
CALSCALE:GREGORIAN
METHOD:PUBLISH
BEGIN:VEVENT
DTSTAMP:20260423T232347Z
UID:151-3183903@stpeterspawleys.org
DTSTART:20261017T140000Z
DTEND:20261017T160000Z
CLASS:PUBLIC
CREATED:20260423T182436
DESCRIPTION:
LAST-MODIFIED:20260423T182436
LOCATION:Heinecke Hall
SUMMARY:WW of Litchfield
URL;VALUE=URI:https://stpeterspawleys.org/events/ww-of-litchfield/2026-10-1
 7
END:VEVENT
END:VCALENDAR
