BEGIN:VCALENDAR
VERSION:2.0
PRODID:icalendar-ruby
CALSCALE:GREGORIAN
METHOD:PUBLISH
BEGIN:VEVENT
DTSTAMP:20260423T221432Z
UID:151-3181565@stpeterspawleys.org
DTSTART:20261010T140000Z
DTEND:20261010T160000Z
CLASS:PUBLIC
CREATED:20260423T153023
DESCRIPTION:
LAST-MODIFIED:20260423T153023
LOCATION:Heinecke Hall
SUMMARY:WW of Litchfield
URL;VALUE=URI:https://stpeterspawleys.org/events/ww-of-litchfield/2026-10-1
 0
END:VEVENT
END:VCALENDAR
