BEGIN:VCALENDAR
VERSION:2.0
PRODID:icalendar-ruby
CALSCALE:GREGORIAN
METHOD:PUBLISH
BEGIN:VEVENT
DTSTAMP:20260424T162930Z
UID:284-3191796@stpeterspawleys.org
DTSTART:20261021T133000Z
DTEND:20261021T143000Z
CLASS:PUBLIC
CREATED:20260424T094002
DESCRIPTION:
LAST-MODIFIED:20260424T094002
LOCATION:Sanctuary 
SUMMARY:Preschool Chapel
URL;VALUE=URI:https://stpeterspawleys.org/events/preschool-chapel/2026-10-2
 1
ATTACH;FILENAME=Screenshot 2024-10-04 091809.png;FMTTYPE=image/png:https://
 dq5pwpg1q8ru0.cloudfront.net/2025/05/29/14/31/45/fb9c4c02-4c6e-40fd-8950-d
 5b637ac0413/Screenshot%202024-10-04%20091809.png
END:VEVENT
END:VCALENDAR
