BEGIN:VCALENDAR
VERSION:2.0
PRODID:icalendar-ruby
CALSCALE:GREGORIAN
METHOD:PUBLISH
BEGIN:VEVENT
DTSTAMP:20260425T001422Z
UID:150-3197763@stpeterspawleys.org
DTSTART:20261104T164500Z
DTEND:20261104T190000Z
CLASS:PUBLIC
CREATED:20260424T180430
DESCRIPTION:
LAST-MODIFIED:20260424T180430
LOCATION:Conference Room
SUMMARY:Men's AA
URL;VALUE=URI:https://stpeterspawleys.org/events/mens-aa/2026-11-04
END:VEVENT
END:VCALENDAR
