BEGIN:VCALENDAR
VERSION:2.0
PRODID:icalendar-ruby
CALSCALE:GREGORIAN
METHOD:PUBLISH
BEGIN:VEVENT
DTSTAMP:20260424T230328Z
UID:150-3197762@stpeterspawleys.org
DTSTART:20261028T154500Z
DTEND:20261028T180000Z
CLASS:PUBLIC
CREATED:20260424T180430
DESCRIPTION:
LAST-MODIFIED:20260424T180430
LOCATION:Conference Room
SUMMARY:Men's AA
URL;VALUE=URI:https://stpeterspawleys.org/events/mens-aa/2026-10-28
END:VEVENT
END:VCALENDAR
