BEGIN:VCALENDAR
VERSION:2.0
PRODID:icalendar-ruby
CALSCALE:GREGORIAN
METHOD:PUBLISH
BEGIN:VEVENT
DTSTAMP:20260424T214921Z
UID:150-3195423@stpeterspawleys.org
DTSTART:20261021T154500Z
DTEND:20261021T180000Z
CLASS:PUBLIC
CREATED:20260424T151636
DESCRIPTION:
LAST-MODIFIED:20260424T151636
LOCATION:Conference Room
SUMMARY:Men's AA
URL;VALUE=URI:https://stpeterspawleys.org/events/mens-aa/2026-10-21
END:VEVENT
END:VCALENDAR
