BEGIN:VCALENDAR
VERSION:2.0
PRODID:icalendar-ruby
CALSCALE:GREGORIAN
METHOD:PUBLISH
BEGIN:VEVENT
DTSTAMP:20260424T201823Z
UID:150-3195422@stpeterspawleys.org
DTSTART:20261014T154500Z
DTEND:20261014T180000Z
CLASS:PUBLIC
CREATED:20260424T151636
DESCRIPTION:
LAST-MODIFIED:20260424T151636
LOCATION:Conference Room
SUMMARY:Men's AA
URL;VALUE=URI:https://stpeterspawleys.org/events/mens-aa/2026-10-14
END:VEVENT
END:VCALENDAR
