BEGIN:VCALENDAR
VERSION:2.0
PRODID:icalendar-ruby
CALSCALE:GREGORIAN
METHOD:PUBLISH
BEGIN:VEVENT
DTSTAMP:20260421T201624Z
UID:202-3153696@stpeterspawleys.org
DTSTART:20261011T180000Z
DTEND:20261011T203000Z
CLASS:PUBLIC
CREATED:20260421T143206
DESCRIPTION:
LAST-MODIFIED:20260421T143206
LOCATION:Heinecke Kitchen 
SUMMARY:Kitchen Prep HOG
URL;VALUE=URI:https://stpeterspawleys.org/events/kitchen-prep-hog/2026-10-1
 1
END:VEVENT
END:VCALENDAR
