BEGIN:VCALENDAR
VERSION:2.0
PRODID:icalendar-ruby
CALSCALE:GREGORIAN
METHOD:PUBLISH
BEGIN:VEVENT
DTSTAMP:20260421T142529Z
UID:20-3147772@stpeterspawleys.org
DTSTART:20261101T213000Z
DTEND:20261101T233000Z
CLASS:PUBLIC
CREATED:20260421T091610
DESCRIPTION:The weekly community meal served indoors or drive through.  Al
 l are welcome to eat or to serve.
LAST-MODIFIED:20260421T091610
LOCATION:
SUMMARY:Harvest of Grace
URL;VALUE=URI:https://stpeterspawleys.org/events/harvest-of-grace/2026-11-0
 1
ATTACH;FILENAME=9F5944DA-0A2C-4362-9162-C93C95943D01.jpeg;FMTTYPE=image/jpe
 g:https://dq5pwpg1q8ru0.cloudfront.net/2021/09/15/11/23/01/6d5b6c52-661a-4
 246-928a-f09eea88f1fa/9F5944DA-0A2C-4362-9162-C93C95943D01.jpeg
END:VEVENT
END:VCALENDAR
