BEGIN:VCALENDAR
VERSION:2.0
PRODID:icalendar-ruby
CALSCALE:GREGORIAN
METHOD:PUBLISH
BEGIN:VEVENT
DTSTAMP:20260425T161808Z
UID:288-3208226@stpeterspawleys.org
DTSTART:20261006T230000Z
DTEND:20261007T000000Z
CLASS:PUBLIC
CREATED:20260425T120400
DESCRIPTION:
LAST-MODIFIED:20260425T120400
LOCATION:Heinecke Hall
SUMMARY:Boy Scout Meeting
URL;VALUE=URI:https://stpeterspawleys.org/events/boy-scout-meeting--288/202
 6-10-06
ATTACH;FILENAME=Screenshot 2025-03-05 123956.png;FMTTYPE=image/png:https://
 dq5pwpg1q8ru0.cloudfront.net/2025/08/05/16/36/08/f0f8a266-930a-4e55-ac73-e
 773bc9a8a4a/Screenshot%202025-03-05%20123956.png
END:VEVENT
END:VCALENDAR
